BEGIN:VCALENDAR
VERSION:2.0
PRODID:icalendar-ruby
CALSCALE:GREGORIAN
METHOD:PUBLISH
BEGIN:VEVENT
DTSTAMP:20260423T063959Z
UID:89-498107@victoryoutreachfairfield.com
DTSTART:20261003T020000Z
DTEND:20261003T030000Z
CLASS:PUBLIC
CREATED:20260422T182648
DESCRIPTION:
LAST-MODIFIED:20260422T182648
LOCATION:
SUMMARY:Prayer Nights
URL;VALUE=URI:https://www.victoryoutreachfairfield.com/events/prayer-nights
 /2026-10-02
ATTACH;FILENAME=Harvest Fest (7).png;FMTTYPE=image/png:https://dq5pwpg1q8ru
 0.cloudfront.net/2025/07/26/14/29/39/b9136921-063e-48f5-9a2e-d47cc472923a/
 Harvest%20Fest%20(7).png
END:VEVENT
END:VCALENDAR
