BEGIN:VCALENDAR
VERSION:2.0
PRODID:icalendar-ruby
CALSCALE:GREGORIAN
METHOD:PUBLISH
BEGIN:VEVENT
DTSTAMP:20260423T110729Z
UID:89-498248@victoryoutreachfairfield.com
DTSTART:20261024T020000Z
DTEND:20261024T030000Z
CLASS:PUBLIC
CREATED:20260423T035559
DESCRIPTION:
LAST-MODIFIED:20260423T035559
LOCATION:
SUMMARY:Prayer Nights
URL;VALUE=URI:https://www.victoryoutreachfairfield.com/events/prayer-nights
 /2026-10-23
ATTACH;FILENAME=Harvest Fest (7).png;FMTTYPE=image/png:https://dq5pwpg1q8ru
 0.cloudfront.net/2025/07/26/14/29/39/b9136921-063e-48f5-9a2e-d47cc472923a/
 Harvest%20Fest%20(7).png
END:VEVENT
END:VCALENDAR
