BEGIN:VCALENDAR
VERSION:2.0
PRODID:icalendar-ruby
CALSCALE:GREGORIAN
METHOD:PUBLISH
BEGIN:VEVENT
DTSTAMP:20260422T215634Z
UID:6-497726@victoryoutreachfairfield.com
DTSTART:20261018T170000Z
DTEND:20261018T190000Z
CLASS:PUBLIC
CREATED:20260422T124044
DESCRIPTION:
LAST-MODIFIED:20260422T124044
LOCATION:1379 Oliver Rd.\, Fairfield\, CA
SUMMARY:Sunday Celebration Service
URL;VALUE=URI:https://www.victoryoutreachfairfield.com/events/sunday-celebr
 ation-service/2026-10-18
ATTACH;FILENAME=Add a subheading.png;FMTTYPE=image/png:https://dq5pwpg1q8ru
 0.cloudfront.net/2025/03/13/23/47/50/c4f335aa-9768-401d-9056-d78f8dc65a55/
 Add%20a%20subheading.png
END:VEVENT
END:VCALENDAR
