BEGIN:VCALENDAR
VERSION:2.0
PRODID:icalendar-ruby
CALSCALE:GREGORIAN
METHOD:PUBLISH
BEGIN:VEVENT
DTSTAMP:20260420T152820Z
UID:95-493213@victoryoutreachfairfield.com
DTSTART:20260426T170000Z
DTEND:20260426T193000Z
CLASS:PUBLIC
CREATED:20260416T210345
DESCRIPTION:
LAST-MODIFIED:20260416T210345
LOCATION:1379 Oliver Rd.\, Fairfield\, CA
SUMMARY:United We Can Sunday
URL;VALUE=URI:https://www.victoryoutreachfairfield.com/events/united-we-can
 -sunday/2026-04-26
ATTACH;FILENAME=Day (1).png;FMTTYPE=image/png:https://dq5pwpg1q8ru0.cloudfr
 ont.net/2026/04/17/04/01/29/93e1f75c-6e80-4778-9db6-10776a492c78/Day%20(1)
 .png
END:VEVENT
END:VCALENDAR
