BEGIN:VCALENDAR
VERSION:2.0
PRODID:icalendar-ruby
CALSCALE:GREGORIAN
METHOD:PUBLISH
BEGIN:VEVENT
DTSTAMP:20260424T224214Z
UID:88-499584@victoryoutreachfairfield.com
DTSTART:20261015T020000Z
DTEND:20261015T030000Z
CLASS:PUBLIC
CREATED:20260424T151509
DESCRIPTION:
LAST-MODIFIED:20260424T151509
LOCATION:
SUMMARY:Wednesday Service
URL;VALUE=URI:https://www.victoryoutreachfairfield.com/events/wednesday-ser
 vice/2026-10-14
ATTACH;FILENAME=Harvest Fest (6).png;FMTTYPE=image/png:https://dq5pwpg1q8ru
 0.cloudfront.net/2025/07/26/14/26/25/007b191e-9037-4be7-b539-f07e5373c1f8/
 Harvest%20Fest%20(6).png
END:VEVENT
END:VCALENDAR
