BEGIN:VCALENDAR
VERSION:2.0
PRODID:icalendar-ruby
CALSCALE:GREGORIAN
METHOD:PUBLISH
BEGIN:VEVENT
DTSTAMP:20260420T171449Z
UID:93-493215@victoryoutreachfairfield.com
DTSTART:20260428T190000Z
DTEND:20260502T050000Z
CLASS:PUBLIC
CREATED:20260416T210626
DESCRIPTION:
LAST-MODIFIED:20260416T210626
LOCATION:Victory Outreach Whittier 11750 Whittier Blvd. Whittier\, CA 90601
SUMMARY:Women's & G.A.N.G. Girl Convention 2026
URL;VALUE=URI:https://www.victoryoutreachfairfield.com/events/womens-g-a-n-
 g-girl-convention-2026/2026-04-28
ATTACH;FILENAME=vw2026-promo-PRODUCTIMG-1.jpg;FMTTYPE=image/jpeg:https://dq
 5pwpg1q8ru0.cloudfront.net/2026/04/17/03/40/19/cf9d03ad-8ca9-49d8-96fd-321
 4c905c132/vw2026-promo-PRODUCTIMG-1.jpg
END:VEVENT
END:VCALENDAR
